BEGIN:VCALENDAR
VERSION:2.0
PRODID:-//Tukios.com/
BEGIN:VEVENT
UID:390ad7bf-9af7-449a-9708-da1220050c36@www.dunnfamilyfuneralhome.com
DTSTAMP:20260424T215734Z
DTSTART:20260425T160000Z
DTEND:20260425T200000Z
SUMMARY:Gathering of Family & Friends
DESCRIPTION:
URL:https://www.dunnfamilyfuneralhome.com/obituaries/lorraine-danielson
LOCATION:Dunn Family Funeral Home with Crematory 1801 South Douglas Road  
	Oswego IL 60543
GEO:41.6953855;-88.314865
END:VEVENT
END:VCALENDAR