BEGIN:VCALENDAR
VERSION:2.0
PRODID:-//Tukios.com/
BEGIN:VEVENT
UID:76ad4dcc-0368-4870-ad1d-0ac55b165364@www.dunnfamilyfuneralhome.com
DTSTAMP:20260424T215627Z
DTSTART:20260425T200000Z
DTEND:20260425T210000Z
SUMMARY:Memorial Service
DESCRIPTION:
URL:https://www.dunnfamilyfuneralhome.com/obituaries/lorraine-danielson
LOCATION:Dunn Family Funeral Home with Crematory 1801 South Douglas Road  
	Oswego IL 60543
GEO:41.6953855;-88.314865
END:VEVENT
END:VCALENDAR